BEGIN:VCALENDAR
VERSION:2.0
PRODID:-//Burnham Library - ECPv6.15.19//NONSGML v1.0//EN
CALSCALE:GREGORIAN
METHOD:PUBLISH
X-WR-CALNAME:Burnham Library
X-ORIGINAL-URL:https://burnhamlibrary.org
X-WR-CALDESC:Events for Burnham Library
REFRESH-INTERVAL;VALUE=DURATION:PT1H
X-Robots-Tag:noindex
X-PUBLISHED-TTL:PT1H
BEGIN:VTIMEZONE
TZID:America/New_York
BEGIN:DAYLIGHT
TZOFFSETFROM:-0500
TZOFFSETTO:-0400
TZNAME:EDT
DTSTART:20240310T070000
END:DAYLIGHT
BEGIN:STANDARD
TZOFFSETFROM:-0400
TZOFFSETTO:-0500
TZNAME:EST
DTSTART:20241103T060000
END:STANDARD
BEGIN:DAYLIGHT
TZOFFSETFROM:-0500
TZOFFSETTO:-0400
TZNAME:EDT
DTSTART:20250309T070000
END:DAYLIGHT
BEGIN:STANDARD
TZOFFSETFROM:-0400
TZOFFSETTO:-0500
TZNAME:EST
DTSTART:20251102T060000
END:STANDARD
BEGIN:DAYLIGHT
TZOFFSETFROM:-0500
TZOFFSETTO:-0400
TZNAME:EDT
DTSTART:20260308T070000
END:DAYLIGHT
BEGIN:STANDARD
TZOFFSETFROM:-0400
TZOFFSETTO:-0500
TZNAME:EST
DTSTART:20261101T060000
END:STANDARD
END:VTIMEZONE
BEGIN:VEVENT
DTSTART;TZID=America/New_York:20250802T100000
DTEND;TZID=America/New_York:20250802T120000
DTSTAMP:20260424T153938
CREATED:20250521T165709Z
LAST-MODIFIED:20250522T141855Z
UID:10003105-1754128800-1754136000@burnhamlibrary.org
SUMMARY:Tri Town Event: Summer Reading Finale
DESCRIPTION:Burnham Library Presents:\nTri Town Event: Summer Reading Finale \nSaturday\, August 2nd     10:00-12:00pm     Hurlburt Park\, Roxbury \nAll Ages.  No registration required. \nJoin us to celebrate the finale to summer reading! Play laser tag or jump in the video game truck to play some fun video games with Rolling Video Games of New England.
URL:https://burnhamlibrary.org/events/summer-reading-finale/
LOCATION:The Burnham Library\, 62 Main Street South\, Burnham Library\, Bridgewater\, CT\, 06798\, United States
CATEGORIES:Youth Programs
ATTACH;FMTTYPE=image/png:https://burnhamlibrary.org/wp-content/uploads/2025/05/summer-finale-flyer-1180-x-1180-px.png
GEO:41.5333701;-73.3653819
X-APPLE-STRUCTURED-LOCATION;VALUE=URI;X-ADDRESS=The Burnham Library 62 Main Street South Burnham Library Bridgewater CT 06798 United States;X-APPLE-RADIUS=500;X-TITLE=62 Main Street South\, Burnham Library:geo:-73.3653819,41.5333701
END:VEVENT
BEGIN:VEVENT
DTSTART;TZID=America/New_York:20250815T100000
DTEND;TZID=America/New_York:20250815T140000
DTSTAMP:20260424T153938
CREATED:20250813T194543Z
LAST-MODIFIED:20250813T194701Z
UID:10003300-1755252000-1755266400@burnhamlibrary.org
SUMMARY:Fair Weekend Early Closing
DESCRIPTION:
URL:https://burnhamlibrary.org/events/fair-weekend-early-closing/
LOCATION:The Burnham Library\, 62 Main Street South\, Burnham Library\, Bridgewater\, CT\, 06798\, United States
CATEGORIES:Special Closing
ATTACH;FMTTYPE=image/png:https://burnhamlibrary.org/wp-content/uploads/2022/11/closed-sign.png
GEO:41.5333701;-73.3653819
X-APPLE-STRUCTURED-LOCATION;VALUE=URI;X-ADDRESS=The Burnham Library 62 Main Street South Burnham Library Bridgewater CT 06798 United States;X-APPLE-RADIUS=500;X-TITLE=62 Main Street South\, Burnham Library:geo:-73.3653819,41.5333701
END:VEVENT
BEGIN:VEVENT
DTSTART;VALUE=DATE:20250816
DTEND;VALUE=DATE:20250817
DTSTAMP:20260424T153938
CREATED:20250813T194613Z
LAST-MODIFIED:20250813T194849Z
UID:10003301-1755302400-1755388799@burnhamlibrary.org
SUMMARY:Fair Weekend Library Closed
DESCRIPTION:
URL:https://burnhamlibrary.org/events/fair-weekend-library-closed/
LOCATION:The Burnham Library\, 62 Main Street South\, Burnham Library\, Bridgewater\, CT\, 06798\, United States
CATEGORIES:Special Closing
ATTACH;FMTTYPE=image/png:https://burnhamlibrary.org/wp-content/uploads/2022/11/closed-sign.png
GEO:41.5333701;-73.3653819
X-APPLE-STRUCTURED-LOCATION;VALUE=URI;X-ADDRESS=The Burnham Library 62 Main Street South Burnham Library Bridgewater CT 06798 United States;X-APPLE-RADIUS=500;X-TITLE=62 Main Street South\, Burnham Library:geo:-73.3653819,41.5333701
END:VEVENT
BEGIN:VEVENT
DTSTART;TZID=America/New_York:20250820T190000
DTEND;TZID=America/New_York:20250820T200000
DTSTAMP:20260424T153938
CREATED:20250813T193510Z
LAST-MODIFIED:20250813T193708Z
UID:10003294-1755716400-1755720000@burnhamlibrary.org
SUMMARY:Virtual Author Talk with Casey McQuiston
DESCRIPTION:REGISTER & SUBMIT QUESTIONS HERE \nvia Digital Livestream or on Demand \nBring an appetite for sizzling drama as we discuss New York Times bestselling author Casey McQuiston’s latest romantic comedy\, The Pairing. \n\n\n\n\nWhen two bisexual exes accidentally book the same European food and wine tour\, they challenge each other to a hookup competition to prove they’re over each other—except they’re definitely not. \nTheo and Kit have been a lot of things: childhood best friends\, crushes\, in love\, and now estranged exes. After a brutal breakup on the transatlantic flight to their dream European food and wine tour\, they exited each other’s lives once and for all. \nTime apart has done them good. Theo has found confidence as a hustling bartender by night and aspiring sommelier by day\, with a long roster of casual lovers. Kit\, who never returned to America\, graduated as the reigning sex god of his pastry school class and now bakes at one of the finest restaurants in Paris. Sure\, nothing really compares to what they had\, and life stretches out long and lonely ahead of them\, but—yeah. It’s in the past. \nAll that remains is the unused voucher for the European tour that never happened\, good for 48 months after its original date and about to expire. Four years later\, it seems like a great idea to finally take the trip. Solo. Separately. \nIt’s not until they board the tour bus that they discover they’ve both accidentally had the exact same idea\, and now they’re trapped with each other for three weeks of stunning views\, luscious flavors\, and the most romantic cities of France\, Spain\, and Italy. It’s fine. There’s nothing left between them. So much nothing that\, when Theo suggests a friendly wager to see who can sleep with their hot Italian tour guide first\, Kit is totally game. And why stop there? Why not a full-on European hookup competition? \nBut sometimes a taste of everything only makes you crave what you can’t have. \nRegister now to join our discussion about Casey McQuiston’s spiciest book yet! \nAbout the Author: Casey McQuiston is a #1 New York Times bestselling author of romantic comedies\, including One Last Stop\, Red\, White & Royal Blue\, I Kissed Shara Wheeler\, and The Pairing. Red\, White & Royal Blue was adapted into a movie in 2023 and released on Amazon Prime. Casey was recently named on the 2022 Time100 Next List. Their writing has appeared in The New York Times\, The Washington Post\, and Bon Appetit. Born and raised in southern Louisiana\, Casey now lives in New York City with a poodle mix named Pepper. \n 
URL:https://burnhamlibrary.org/events/returning-to-romance-through-food-and-flirty-fun-in-fiction-with-casey-mcquiston/
LOCATION:The Burnham Library\, 62 Main Street South\, Burnham Library\, Bridgewater\, CT\, 06798\, United States
CATEGORIES:Author Talk
ATTACH;FMTTYPE=image/jpeg:https://burnhamlibrary.org/wp-content/uploads/2025/08/SQUARE-marketing-image-McQuiston.jpg
GEO:41.5333701;-73.3653819
X-APPLE-STRUCTURED-LOCATION;VALUE=URI;X-ADDRESS=The Burnham Library 62 Main Street South Burnham Library Bridgewater CT 06798 United States;X-APPLE-RADIUS=500;X-TITLE=62 Main Street South\, Burnham Library:geo:-73.3653819,41.5333701
END:VEVENT
BEGIN:VEVENT
DTSTART;TZID=America/New_York:20250822T173000
DTEND;TZID=America/New_York:20250822T193000
DTSTAMP:20260424T153938
CREATED:20250425T173925Z
LAST-MODIFIED:20250425T174329Z
UID:10003087-1755883800-1755891000@burnhamlibrary.org
SUMMARY:Burnham Beer Garden
DESCRIPTION:Join us under the tent at the annual Burnham Beer Garden! Enjoy local brews\, wine\, craft cocktails\, and snacks\, all while grooving to live music by Jim Moker. Perfect for the entire family\, with fun surprises and a chance to meet new friends. Don’t miss out! \nProceeds benefit the Burnham Library. There will also be non-alcoholic options on the house. Venmo\, cash\, and cards are accepted. \nIn case of rain\, we hang out in the SBYLC Community Room. \nQuestions? email jkallay@burnhamlibrary.org
URL:https://burnhamlibrary.org/events/22728/2025-08-22/
LOCATION:The Burnham Library\, 62 Main Street South\, Burnham Library\, Bridgewater\, CT\, 06798\, United States
CATEGORIES:Adult Program
ATTACH;FMTTYPE=image/png:https://burnhamlibrary.org/wp-content/uploads/2025/04/Yellow-and-Black-Vintage-Oktoberfest-Party-Instagram-Post.png
GEO:41.5333701;-73.3653819
X-APPLE-STRUCTURED-LOCATION;VALUE=URI;X-ADDRESS=The Burnham Library 62 Main Street South Burnham Library Bridgewater CT 06798 United States;X-APPLE-RADIUS=500;X-TITLE=62 Main Street South\, Burnham Library:geo:-73.3653819,41.5333701
END:VEVENT
BEGIN:VEVENT
DTSTART;TZID=America/New_York:20250826T090000
DTEND;TZID=America/New_York:20250826T103000
DTSTAMP:20260424T153938
CREATED:20250813T175811Z
LAST-MODIFIED:20250813T175823Z
UID:10003250-1756198800-1756204200@burnhamlibrary.org
SUMMARY:Back-to-School Parent & Caregiver Social
DESCRIPTION:School is back in session! Drop in after Drop off for refreshments and a chance to relax with fellow parents. \nIn partnership with the Burnham School PTO
URL:https://burnhamlibrary.org/events/back-to-school-parent-caregiver-social-2/
LOCATION:The Burnham Library\, 62 Main Street South\, Burnham Library\, Bridgewater\, CT\, 06798\, United States
CATEGORIES:Adult Program
ATTACH;FMTTYPE=image/png:https://burnhamlibrary.org/wp-content/uploads/2022/11/back-to-school.png
GEO:41.5333701;-73.3653819
X-APPLE-STRUCTURED-LOCATION;VALUE=URI;X-ADDRESS=The Burnham Library 62 Main Street South Burnham Library Bridgewater CT 06798 United States;X-APPLE-RADIUS=500;X-TITLE=62 Main Street South\, Burnham Library:geo:-73.3653819,41.5333701
END:VEVENT
BEGIN:VEVENT
DTSTART;TZID=America/New_York:20250826T123000
DTEND;TZID=America/New_York:20250826T133000
DTSTAMP:20260424T153938
CREATED:20250129T174630Z
LAST-MODIFIED:20260224T183249Z
UID:10002802-1756211400-1756215000@burnhamlibrary.org
SUMMARY:Burnham's Satellite Library
DESCRIPTION:Join Katie at the Hilltop Center on the 4th Tuesday of Each Month! \nWhether you’re looking to discover new books\, need help with tech\, or just want to chat\, Katie has you covered. Swing by to grab a new library card\, register for upcoming programs\, or simply enjoy some good conversation. She’s here to assist with it all! \n 
URL:https://burnhamlibrary.org/events/burnhams-satellite-library-2-2/2025-08-26/
LOCATION:Hilltop Center\, United States
CATEGORIES:Adult Program
END:VEVENT
BEGIN:VEVENT
DTSTART;TZID=America/New_York:20250826T123000
DTEND;TZID=America/New_York:20250826T133000
DTSTAMP:20260424T153938
CREATED:20260218T211457Z
LAST-MODIFIED:20260218T211458Z
UID:10009370-1756211400-1756215000@burnhamlibrary.org
SUMMARY:Burnham's Satellite Library
DESCRIPTION:Join Katie at the Hilltop Center on the 4th Tuesday of Each Month! \nWhether you’re looking to discover new books\, need help with tech\, or just want to chat\, Katie has you covered. Swing by to grab a new library card\, register for upcoming programs\, or simply enjoy some good conversation. She’s here to assist with it all! \n 
URL:https://burnhamlibrary.org/events/burnhams-satellite-library-2-2-4/2025-08-26/
LOCATION:Hilltop Center\, United States
CATEGORIES:Adult Program
END:VEVENT
BEGIN:VEVENT
DTSTART;TZID=America/New_York:20250827T080000
DTEND;TZID=America/New_York:20250827T170000
DTSTAMP:20260424T153938
CREATED:20250827T214204Z
LAST-MODIFIED:20250827T214313Z
UID:10003789-1756281600-1756314000@burnhamlibrary.org
SUMMARY:Year-long Scavenger Hunt: Where is Captain Bur-Gnome?
DESCRIPTION:WHERE IS CAPTAIN BUR-Gnome?\nCaptain Bur-Gnome will be hiding around Bridgewater Center all year long to celebrate the 100th Birthday of the Burnham Library! \nHow to Play! \n\nFind Captain Bur-Gnome\nTake a selfie with him\nVisit the Burnham Library and show us your selfie\nEnter to win a PRIZE!\n\nCaptain Bur-Gnome will be in a different location in town each month (and he may be wearing a disguise). Receive a raffle ticket for each month you take a selfie with the Cap’n! Anyone who finds him all year (all 12 months) will also be entered to win a GRAND PRIZE!
URL:https://burnhamlibrary.org/events/where-is-captain-bur-gnome/
LOCATION:The Burnham Library\, 62 Main Street South\, Burnham Library\, Bridgewater\, CT\, 06798\, United States
ATTACH;FMTTYPE=image/jpeg:https://burnhamlibrary.org/wp-content/uploads/2025/08/Where-is-Captain-BurGnome-Square.jpg
GEO:41.5333701;-73.3653819
X-APPLE-STRUCTURED-LOCATION;VALUE=URI;X-ADDRESS=The Burnham Library 62 Main Street South Burnham Library Bridgewater CT 06798 United States;X-APPLE-RADIUS=500;X-TITLE=62 Main Street South\, Burnham Library:geo:-73.3653819,41.5333701
END:VEVENT
BEGIN:VEVENT
DTSTART;TZID=America/New_York:20250827T170000
DTEND;TZID=America/New_York:20250827T190000
DTSTAMP:20260424T153938
CREATED:20250813T185035Z
LAST-MODIFIED:20250813T185035Z
UID:10003280-1756314000-1756321200@burnhamlibrary.org
SUMMARY:Book Discussion: The Soul of America
DESCRIPTION:All are invited to join us in an open discussion. Copies of each selection will be available at the library\, or you can request a curbside pick-up. \nFor more information\, contact jkallay@burnhamlibrary.org
URL:https://burnhamlibrary.org/events/book-discussion-the-soul-of-america/
LOCATION:The Burnham Library\, 62 Main Street South\, Burnham Library\, Bridgewater\, CT\, 06798\, United States
CATEGORIES:Adult Program
GEO:41.5333701;-73.3653819
X-APPLE-STRUCTURED-LOCATION;VALUE=URI;X-ADDRESS=The Burnham Library 62 Main Street South Burnham Library Bridgewater CT 06798 United States;X-APPLE-RADIUS=500;X-TITLE=62 Main Street South\, Burnham Library:geo:-73.3653819,41.5333701
END:VEVENT
BEGIN:VEVENT
DTSTART;TZID=America/New_York:20250828T140000
DTEND;TZID=America/New_York:20250828T150000
DTSTAMP:20260424T153938
CREATED:20250813T193914Z
LAST-MODIFIED:20250813T194420Z
UID:10003295-1756389600-1756393200@burnhamlibrary.org
SUMMARY:Virtual Author Talk: How to Thrive in a World of Constant Chaos with Organizational Psychologist Dr. Tasha Eurich
DESCRIPTION:REGISTER & SUBMIT QUESTIONS HERE \nvia Digital Livestream or on Demand \nLearn how to master the daily grind and become shatterproof in a tumultuous world with key insights by Dr. Tasha Eurich as she talks about her newest book\, Shatterproof: How to Thrive in a World of Constant Chaos (And why resilience alone isn’t enough). \nAre you working too much but feel like it’s never enough? Have you turned the act of pretending you’re “fine” into an art form? Does self-care feel like one more item on your already long to-do list? \nWe’ve been taught that resilience is the secret to navigating life’s most difficult moments. But according to New York Times bestselling author\, organizational psychologist\, and researcher Dr. Tasha Eurich\, there is one problem with this assumption. Scientifically\, resilience isn’t an unlimited resource\, especially with the growing pressure and uncertainty we’re experiencing today. \nWhether you’re grappling with work stress\, personal challenges\, or the chaos of everyday life\, Shatterproof offers an urgent alternative to stoic endurance as the only strategy for survival. Combining cutting-edge research\, practical tools\, and insights from her own struggle with a life-defining health crisis\, Dr. Eurich will overturn your beliefs about what it takes to thrive through adversity\, offering a scientifically supported system to help you feel better\, do better\, and live better than before. You’ll discover how to: \n\nReclaim your best self when stress turns you into someone you barely recognize\nUncover the unmet needs that keep you stuck in self-limiting patterns\nTurn stress into strength\, exhaustion into energy\, and confusion into confidence\nFind peace in the present and be prepared for what the future holds\, and much more!\n\nThis timely discussion with Dr. Eurich is sure to unlock powerful new ideas about how to show up as our best selves. Register now to be a part of the conversation! \nAbout the Author: Dr. Tasha Eurich is an organizational psychologist\, researcher\, and New York Times bestselling author on a mission to help people and organizations thrive in an ever-changing world. Recognized as the world’s leading self-awareness coach (Marshall Goldsmith Coaching Awards) and communication expert (Global Gurus)\, she’s spent over two decades teaching people practical strategies to supercharge their self-awareness\, sanity\, and success. Her work has been featured in outlets like The Wall Street Journal\, The New York Times\, Harvard Business Review\, NPR\, CNN\, NBC\, and Fast Company\, as well as peer-reviewed journals. In her spare time\, she enjoys traveling\, rescuing dogs\, and is a proud and unapologetic musical theater nerd.
URL:https://burnhamlibrary.org/events/virtual-author-talk-how-to-thrive-in-a-world-of-constant-chaos-with-organizational-psychologist-dr-tasha-eurich/
LOCATION:The Burnham Library\, 62 Main Street South\, Burnham Library\, Bridgewater\, CT\, 06798\, United States
CATEGORIES:Author Talk
ATTACH;FMTTYPE=image/jpeg:https://burnhamlibrary.org/wp-content/uploads/2025/08/SQUARE-Marketing-Image-Tasha-Eurich-1.jpg
GEO:41.5333701;-73.3653819
X-APPLE-STRUCTURED-LOCATION;VALUE=URI;X-ADDRESS=The Burnham Library 62 Main Street South Burnham Library Bridgewater CT 06798 United States;X-APPLE-RADIUS=500;X-TITLE=62 Main Street South\, Burnham Library:geo:-73.3653819,41.5333701
END:VEVENT
BEGIN:VEVENT
DTSTART;TZID=America/New_York:20250831T143000
DTEND;TZID=America/New_York:20250831T153000
DTSTAMP:20260424T153938
CREATED:20250820T214137Z
LAST-MODIFIED:20250820T214137Z
UID:10003559-1756650600-1756654200@burnhamlibrary.org
SUMMARY:Join us at the Tractor Parade!
DESCRIPTION:
URL:https://burnhamlibrary.org/events/join-us-at-the-tractor-parade/
LOCATION:The Burnham Library\, 62 Main Street South\, Burnham Library\, Bridgewater\, CT\, 06798\, United States
CATEGORIES:Town Event
ATTACH;FMTTYPE=image/png:https://burnhamlibrary.org/wp-content/uploads/2022/11/tractor-parade-logo.png
GEO:41.5333701;-73.3653819
X-APPLE-STRUCTURED-LOCATION;VALUE=URI;X-ADDRESS=The Burnham Library 62 Main Street South Burnham Library Bridgewater CT 06798 United States;X-APPLE-RADIUS=500;X-TITLE=62 Main Street South\, Burnham Library:geo:-73.3653819,41.5333701
END:VEVENT
END:VCALENDAR