BEGIN:VCALENDAR
VERSION:2.0
PRODID:-//Burnham Library - ECPv6.15.19//NONSGML v1.0//EN
CALSCALE:GREGORIAN
METHOD:PUBLISH
X-WR-CALNAME:Burnham Library
X-ORIGINAL-URL:https://burnhamlibrary.org
X-WR-CALDESC:Events for Burnham Library
REFRESH-INTERVAL;VALUE=DURATION:PT1H
X-Robots-Tag:noindex
X-PUBLISHED-TTL:PT1H
BEGIN:VTIMEZONE
TZID:America/New_York
BEGIN:DAYLIGHT
TZOFFSETFROM:-0500
TZOFFSETTO:-0400
TZNAME:EDT
DTSTART:20150308T070000
END:DAYLIGHT
BEGIN:STANDARD
TZOFFSETFROM:-0400
TZOFFSETTO:-0500
TZNAME:EST
DTSTART:20151101T060000
END:STANDARD
BEGIN:DAYLIGHT
TZOFFSETFROM:-0500
TZOFFSETTO:-0400
TZNAME:EDT
DTSTART:20160313T070000
END:DAYLIGHT
BEGIN:STANDARD
TZOFFSETFROM:-0400
TZOFFSETTO:-0500
TZNAME:EST
DTSTART:20161106T060000
END:STANDARD
BEGIN:DAYLIGHT
TZOFFSETFROM:-0500
TZOFFSETTO:-0400
TZNAME:EDT
DTSTART:20170312T070000
END:DAYLIGHT
BEGIN:STANDARD
TZOFFSETFROM:-0400
TZOFFSETTO:-0500
TZNAME:EST
DTSTART:20171105T060000
END:STANDARD
END:VTIMEZONE
BEGIN:VEVENT
DTSTART;TZID=America/New_York:20161113T130000
DTEND;TZID=America/New_York:20161113T150000
DTSTAMP:20260423T032717
CREATED:20161012T161320Z
LAST-MODIFIED:20161012T161320Z
UID:10000434-1479042000-1479049200@burnhamlibrary.org
SUMMARY:College Planning Series
DESCRIPTION:Financing College with Karen Waltemath\, CTP\, CLTC \nFree and open to the public. \nFor more information\, contact the library.
URL:https://burnhamlibrary.org/events/college-planning-series-2/
LOCATION:The Burnham Library\, 62 Main Street South\, Burnham Library\, Bridgewater\, CT\, 06798\, United States
GEO:41.5333701;-73.3653819
X-APPLE-STRUCTURED-LOCATION;VALUE=URI;X-ADDRESS=The Burnham Library 62 Main Street South Burnham Library Bridgewater CT 06798 United States;X-APPLE-RADIUS=500;X-TITLE=62 Main Street South\, Burnham Library:geo:-73.3653819,41.5333701
END:VEVENT
BEGIN:VEVENT
DTSTART;TZID=America/New_York:20161110T090000
DTEND;TZID=America/New_York:20161110T170000
DTSTAMP:20260423T032717
CREATED:20161018T154205Z
LAST-MODIFIED:20161018T154205Z
UID:10000436-1478768400-1478797200@burnhamlibrary.org
SUMMARY:Library CLOSED for Bibliomation Training
DESCRIPTION:  \n \nThe library will be closed Thursday\, November 10th for staff training. Our new Evergreen/Bibliomation will go live on Thursday\, November 17th!! \nThe library will reopen on Saturday\, November 12th at 9:00 am. Any questions\, please contact sneary@burnhamlibrary.org or jkallay@burnhamlibrary.org
URL:https://burnhamlibrary.org/events/library-closed-for-bibliomation-training/
LOCATION:The Burnham Library\, 62 Main Street South\, Burnham Library\, Bridgewater\, CT\, 06798\, United States
GEO:41.5333701;-73.3653819
X-APPLE-STRUCTURED-LOCATION;VALUE=URI;X-ADDRESS=The Burnham Library 62 Main Street South Burnham Library Bridgewater CT 06798 United States;X-APPLE-RADIUS=500;X-TITLE=62 Main Street South\, Burnham Library:geo:-73.3653819,41.5333701
END:VEVENT
BEGIN:VEVENT
DTSTART;TZID=America/New_York:20161109T180000
DTEND;TZID=America/New_York:20161109T200000
DTSTAMP:20260423T032717
CREATED:20160802T192857Z
LAST-MODIFIED:20160802T192857Z
UID:10000041-1478714400-1478721600@burnhamlibrary.org
SUMMARY:Two Towns Tabletop Club - Bridgewater
DESCRIPTION:Teen and Adult board gamers join in testing your gaming skills and meet new gamers along the way! Fury of Dracula\, King of Tokyo\, Settlers of Catan\, and The Walking Dead. No need to bring your games\, we’ve plenty! No registration required.\nGamers meet the 1st and 2nd week at the New Milford Library and the 3rd and 4th week at the Burnham Library.\nQuestions? email cfisher@burnhamlibrary.org
URL:https://burnhamlibrary.org/events/board-game-club-3/2016-11-09/
LOCATION:CT
END:VEVENT
BEGIN:VEVENT
DTSTART;TZID=America/New_York:20161108T140000
DTEND;TZID=America/New_York:20161108T160000
DTSTAMP:20260423T032717
CREATED:20160818T154412Z
LAST-MODIFIED:20160818T154412Z
UID:10000420-1478613600-1478620800@burnhamlibrary.org
SUMMARY:Coffee and Coloring
DESCRIPTION:
URL:https://burnhamlibrary.org/events/coffee-and-coloring/2016-11-08/
LOCATION:The Burnham Library\, 62 Main Street South\, Burnham Library\, Bridgewater\, CT\, 06798\, United States
GEO:41.5333701;-73.3653819
X-APPLE-STRUCTURED-LOCATION;VALUE=URI;X-ADDRESS=The Burnham Library 62 Main Street South Burnham Library Bridgewater CT 06798 United States;X-APPLE-RADIUS=500;X-TITLE=62 Main Street South\, Burnham Library:geo:-73.3653819,41.5333701
END:VEVENT
BEGIN:VEVENT
DTSTART;TZID=America/New_York:20161108T130000
DTEND;TZID=America/New_York:20161108T143000
DTSTAMP:20260423T032717
CREATED:20160806T130538Z
LAST-MODIFIED:20160806T130538Z
UID:10000380-1478610000-1478615400@burnhamlibrary.org
SUMMARY:Burnham School Classes
DESCRIPTION:Grades 3 and 4
URL:https://burnhamlibrary.org/events/burnham-school-classes-2/2016-11-08/
LOCATION:The Burnham Library\, 62 Main Street South\, Burnham Library\, Bridgewater\, CT\, 06798\, United States
GEO:41.5333701;-73.3653819
X-APPLE-STRUCTURED-LOCATION;VALUE=URI;X-ADDRESS=The Burnham Library 62 Main Street South Burnham Library Bridgewater CT 06798 United States;X-APPLE-RADIUS=500;X-TITLE=62 Main Street South\, Burnham Library:geo:-73.3653819,41.5333701
END:VEVENT
BEGIN:VEVENT
DTSTART;TZID=America/New_York:20161107T113000
DTEND;TZID=America/New_York:20161107T140000
DTSTAMP:20260423T032717
CREATED:20160806T130324Z
LAST-MODIFIED:20160806T130324Z
UID:10000370-1478518200-1478527200@burnhamlibrary.org
SUMMARY:Burnham School Classes
DESCRIPTION:Burnham Students Grades K/1\, 5 and 4. \n 
URL:https://burnhamlibrary.org/events/burnham-school-classes/2016-11-07/
LOCATION:The Burnham Library\, 62 Main Street South\, Burnham Library\, Bridgewater\, CT\, 06798\, United States
GEO:41.5333701;-73.3653819
X-APPLE-STRUCTURED-LOCATION;VALUE=URI;X-ADDRESS=The Burnham Library 62 Main Street South Burnham Library Bridgewater CT 06798 United States;X-APPLE-RADIUS=500;X-TITLE=62 Main Street South\, Burnham Library:geo:-73.3653819,41.5333701
END:VEVENT
BEGIN:VEVENT
DTSTART;TZID=America/New_York:20161102T180000
DTEND;TZID=America/New_York:20161102T200000
DTSTAMP:20260423T032717
CREATED:20160802T192857Z
LAST-MODIFIED:20160802T192857Z
UID:10000040-1478109600-1478116800@burnhamlibrary.org
SUMMARY:Two Towns Tabletop Club - Bridgewater
DESCRIPTION:Teen and Adult board gamers join in testing your gaming skills and meet new gamers along the way! Fury of Dracula\, King of Tokyo\, Settlers of Catan\, and The Walking Dead. No need to bring your games\, we’ve plenty! No registration required.\nGamers meet the 1st and 2nd week at the New Milford Library and the 3rd and 4th week at the Burnham Library.\nQuestions? email cfisher@burnhamlibrary.org
URL:https://burnhamlibrary.org/events/board-game-club-3/2016-11-02/
LOCATION:CT
END:VEVENT
BEGIN:VEVENT
DTSTART;TZID=America/New_York:20161101T180000
DTEND;TZID=America/New_York:20161101T210000
DTSTAMP:20260423T032717
CREATED:20161025T151806Z
LAST-MODIFIED:20161025T151806Z
UID:10000438-1478023200-1478034000@burnhamlibrary.org
SUMMARY:Meeting Room in Use - Scholarship Committee
DESCRIPTION:
URL:https://burnhamlibrary.org/events/meeting-room-in-use-scholarship-committee/
LOCATION:The Burnham Library\, 62 Main Street South\, Burnham Library\, Bridgewater\, CT\, 06798\, United States
GEO:41.5333701;-73.3653819
X-APPLE-STRUCTURED-LOCATION;VALUE=URI;X-ADDRESS=The Burnham Library 62 Main Street South Burnham Library Bridgewater CT 06798 United States;X-APPLE-RADIUS=500;X-TITLE=62 Main Street South\, Burnham Library:geo:-73.3653819,41.5333701
END:VEVENT
BEGIN:VEVENT
DTSTART;TZID=America/New_York:20161101T140000
DTEND;TZID=America/New_York:20161101T160000
DTSTAMP:20260423T032717
CREATED:20160818T154412Z
LAST-MODIFIED:20160818T154412Z
UID:10000419-1478008800-1478016000@burnhamlibrary.org
SUMMARY:Coffee and Coloring
DESCRIPTION:
URL:https://burnhamlibrary.org/events/coffee-and-coloring/2016-11-01/
LOCATION:The Burnham Library\, 62 Main Street South\, Burnham Library\, Bridgewater\, CT\, 06798\, United States
GEO:41.5333701;-73.3653819
X-APPLE-STRUCTURED-LOCATION;VALUE=URI;X-ADDRESS=The Burnham Library 62 Main Street South Burnham Library Bridgewater CT 06798 United States;X-APPLE-RADIUS=500;X-TITLE=62 Main Street South\, Burnham Library:geo:-73.3653819,41.5333701
END:VEVENT
BEGIN:VEVENT
DTSTART;TZID=America/New_York:20161026T180000
DTEND;TZID=America/New_York:20161026T200000
DTSTAMP:20260423T032717
CREATED:20160802T192857Z
LAST-MODIFIED:20160802T192857Z
UID:10000039-1477504800-1477512000@burnhamlibrary.org
SUMMARY:Two Towns Tabletop Club - Bridgewater
DESCRIPTION:Teen and Adult board gamers join in testing your gaming skills and meet new gamers along the way! Fury of Dracula\, King of Tokyo\, Settlers of Catan\, and The Walking Dead. No need to bring your games\, we’ve plenty! No registration required.\nGamers meet the 1st and 2nd week at the New Milford Library and the 3rd and 4th week at the Burnham Library.\nQuestions? email cfisher@burnhamlibrary.org
URL:https://burnhamlibrary.org/events/board-game-club-3/2016-10-26/
LOCATION:CT
END:VEVENT
BEGIN:VEVENT
DTSTART;TZID=America/New_York:20161026T153000
DTEND;TZID=America/New_York:20161026T161500
DTSTAMP:20260423T032717
CREATED:20160806T133517Z
LAST-MODIFIED:20160806T133517Z
UID:10000401-1477495800-1477498500@burnhamlibrary.org
SUMMARY:Burnham Girls
DESCRIPTION:Burnham Girls: Grades 3-5 \nWe will talk books\, make crafts\, and just be us! \n\nRegistration: In order for Burnham Students to be escorted from school for after-school library activities\, written permission must be submitted to the Burnham School office. All programs require advance registration with the library.
URL:https://burnhamlibrary.org/events/burnham-girls-2016-10-26/2016-10-26/
LOCATION:The Burnham Library\, 62 Main Street South\, Burnham Library\, Bridgewater\, CT\, 06798\, United States
GEO:41.5333701;-73.3653819
X-APPLE-STRUCTURED-LOCATION;VALUE=URI;X-ADDRESS=The Burnham Library 62 Main Street South Burnham Library Bridgewater CT 06798 United States;X-APPLE-RADIUS=500;X-TITLE=62 Main Street South\, Burnham Library:geo:-73.3653819,41.5333701
END:VEVENT
BEGIN:VEVENT
DTSTART;TZID=America/New_York:20161025T140000
DTEND;TZID=America/New_York:20161025T160000
DTSTAMP:20260423T032717
CREATED:20160818T154412Z
LAST-MODIFIED:20160818T154412Z
UID:10000418-1477404000-1477411200@burnhamlibrary.org
SUMMARY:Coffee and Coloring
DESCRIPTION:
URL:https://burnhamlibrary.org/events/coffee-and-coloring/2016-10-25/
LOCATION:The Burnham Library\, 62 Main Street South\, Burnham Library\, Bridgewater\, CT\, 06798\, United States
GEO:41.5333701;-73.3653819
X-APPLE-STRUCTURED-LOCATION;VALUE=URI;X-ADDRESS=The Burnham Library 62 Main Street South Burnham Library Bridgewater CT 06798 United States;X-APPLE-RADIUS=500;X-TITLE=62 Main Street South\, Burnham Library:geo:-73.3653819,41.5333701
END:VEVENT
BEGIN:VEVENT
DTSTART;TZID=America/New_York:20161022T120000
DTEND;TZID=America/New_York:20161022T150000
DTSTAMP:20260423T032717
CREATED:20161025T151545Z
LAST-MODIFIED:20161025T151545Z
UID:10000437-1477137600-1477148400@burnhamlibrary.org
SUMMARY:Strategic Planning/Community Discussion
DESCRIPTION:
URL:https://burnhamlibrary.org/events/strategic-planningcommunity-discussion/
LOCATION:The Burnham Library\, 62 Main Street South\, Burnham Library\, Bridgewater\, CT\, 06798\, United States
GEO:41.5333701;-73.3653819
X-APPLE-STRUCTURED-LOCATION;VALUE=URI;X-ADDRESS=The Burnham Library 62 Main Street South Burnham Library Bridgewater CT 06798 United States;X-APPLE-RADIUS=500;X-TITLE=62 Main Street South\, Burnham Library:geo:-73.3653819,41.5333701
END:VEVENT
BEGIN:VEVENT
DTSTART;TZID=America/New_York:20161019T180000
DTEND;TZID=America/New_York:20161019T200000
DTSTAMP:20260423T032717
CREATED:20160802T192857Z
LAST-MODIFIED:20160802T192857Z
UID:10000038-1476900000-1476907200@burnhamlibrary.org
SUMMARY:Two Towns Tabletop Club - Bridgewater
DESCRIPTION:Teen and Adult board gamers join in testing your gaming skills and meet new gamers along the way! Fury of Dracula\, King of Tokyo\, Settlers of Catan\, and The Walking Dead. No need to bring your games\, we’ve plenty! No registration required.\nGamers meet the 1st and 2nd week at the New Milford Library and the 3rd and 4th week at the Burnham Library.\nQuestions? email cfisher@burnhamlibrary.org
URL:https://burnhamlibrary.org/events/board-game-club-3/2016-10-19/
LOCATION:CT
END:VEVENT
BEGIN:VEVENT
DTSTART;TZID=America/New_York:20161018T140000
DTEND;TZID=America/New_York:20161018T160000
DTSTAMP:20260423T032717
CREATED:20160818T154412Z
LAST-MODIFIED:20160818T154412Z
UID:10000417-1476799200-1476806400@burnhamlibrary.org
SUMMARY:Coffee and Coloring
DESCRIPTION:
URL:https://burnhamlibrary.org/events/coffee-and-coloring/2016-10-18/
LOCATION:The Burnham Library\, 62 Main Street South\, Burnham Library\, Bridgewater\, CT\, 06798\, United States
GEO:41.5333701;-73.3653819
X-APPLE-STRUCTURED-LOCATION;VALUE=URI;X-ADDRESS=The Burnham Library 62 Main Street South Burnham Library Bridgewater CT 06798 United States;X-APPLE-RADIUS=500;X-TITLE=62 Main Street South\, Burnham Library:geo:-73.3653819,41.5333701
END:VEVENT
BEGIN:VEVENT
DTSTART;TZID=America/New_York:20161016T130000
DTEND;TZID=America/New_York:20161016T140000
DTSTAMP:20260423T032717
CREATED:20160806T153310Z
LAST-MODIFIED:20160806T153310Z
UID:10000409-1476622800-1476626400@burnhamlibrary.org
SUMMARY:College Planning Series
DESCRIPTION:
URL:https://burnhamlibrary.org/events/college-planning-series/
LOCATION:The Burnham Library\, 62 Main Street South\, Burnham Library\, Bridgewater\, CT\, 06798\, United States
GEO:41.5333701;-73.3653819
X-APPLE-STRUCTURED-LOCATION;VALUE=URI;X-ADDRESS=The Burnham Library 62 Main Street South Burnham Library Bridgewater CT 06798 United States;X-APPLE-RADIUS=500;X-TITLE=62 Main Street South\, Burnham Library:geo:-73.3653819,41.5333701
END:VEVENT
BEGIN:VEVENT
DTSTART;TZID=America/New_York:20161015T110000
DTEND;TZID=America/New_York:20161015T130000
DTSTAMP:20260423T032717
CREATED:20160818T153343Z
LAST-MODIFIED:20160818T153343Z
UID:10000410-1476529200-1476536400@burnhamlibrary.org
SUMMARY:Fairy & Gnome Houses
DESCRIPTION:
URL:https://burnhamlibrary.org/events/fairy-gnome-houses/
LOCATION:The Burnham Library\, 62 Main Street South\, Burnham Library\, Bridgewater\, CT\, 06798\, United States
GEO:41.5333701;-73.3653819
X-APPLE-STRUCTURED-LOCATION;VALUE=URI;X-ADDRESS=The Burnham Library 62 Main Street South Burnham Library Bridgewater CT 06798 United States;X-APPLE-RADIUS=500;X-TITLE=62 Main Street South\, Burnham Library:geo:-73.3653819,41.5333701
END:VEVENT
BEGIN:VEVENT
DTSTART;TZID=America/New_York:20161013T153000
DTEND;TZID=America/New_York:20161013T160000
DTSTAMP:20260423T032717
CREATED:20160806T133800Z
LAST-MODIFIED:20160806T133800Z
UID:10000403-1476372600-1476374400@burnhamlibrary.org
SUMMARY:Project Play
DESCRIPTION:Project Play: Grades K- 1 \nKiddos can take advantage of all the library has to offer: Wii\, Board Games\, Crafts\, Play Area and more… \nRegistration: In order for Burnham Students to be escorted from school for after-school library activities\, written permission must be submitted to the Burnham School office. All programs require advance registration with the library. If you child is not attending a program\, please inform both the library AND the school. \n 
URL:https://burnhamlibrary.org/events/project-play/2016-10-13/
LOCATION:The Burnham Library\, 62 Main Street South\, Burnham Library\, Bridgewater\, CT\, 06798\, United States
GEO:41.5333701;-73.3653819
X-APPLE-STRUCTURED-LOCATION;VALUE=URI;X-ADDRESS=The Burnham Library 62 Main Street South Burnham Library Bridgewater CT 06798 United States;X-APPLE-RADIUS=500;X-TITLE=62 Main Street South\, Burnham Library:geo:-73.3653819,41.5333701
END:VEVENT
BEGIN:VEVENT
DTSTART;TZID=America/New_York:20161012T180000
DTEND;TZID=America/New_York:20161012T200000
DTSTAMP:20260423T032717
CREATED:20160920T182310Z
LAST-MODIFIED:20160920T182310Z
UID:10000433-1476295200-1476302400@burnhamlibrary.org
SUMMARY:Two Towns Tabletop Club - New Milford
DESCRIPTION:Teen and Adult board gamers join in testing your gaming skills and meet new gamers along the way! Fury of Dracula\, King of Tokyo\, Settlers of Catan\, and The Walking Dead. No need to bring your games\, we’ve plenty! No registration required.\nGamers meet the 1st and 2nd week at the New Milford Library and the 3rd and 4th week at the Burnham Library.\nQuestions? email cfisher@burnhamlibrary.org
URL:https://burnhamlibrary.org/events/two-towns-board-gaming-club-new-milford-2016-10-12/2016-10-12/
LOCATION:New Milford Public Library
END:VEVENT
BEGIN:VEVENT
DTSTART;TZID=America/New_York:20161012T180000
DTEND;TZID=America/New_York:20161012T200000
DTSTAMP:20260423T032717
CREATED:20160802T192857Z
LAST-MODIFIED:20160802T192857Z
UID:10000037-1476295200-1476302400@burnhamlibrary.org
SUMMARY:Two Towns Tabletop Club - Bridgewater
DESCRIPTION:Teen and Adult board gamers join in testing your gaming skills and meet new gamers along the way! Fury of Dracula\, King of Tokyo\, Settlers of Catan\, and The Walking Dead. No need to bring your games\, we’ve plenty! No registration required.\nGamers meet the 1st and 2nd week at the New Milford Library and the 3rd and 4th week at the Burnham Library.\nQuestions? email cfisher@burnhamlibrary.org
URL:https://burnhamlibrary.org/events/board-game-club-3/2016-10-12/
LOCATION:CT
END:VEVENT
BEGIN:VEVENT
DTSTART;TZID=America/New_York:20161012T033000
DTEND;TZID=America/New_York:20161012T161500
DTSTAMP:20260423T032717
CREATED:20160806T134102Z
LAST-MODIFIED:20160806T134102Z
UID:10000405-1476243000-1476288900@burnhamlibrary.org
SUMMARY:MakerLAB
DESCRIPTION:MakerLAB: Grades 3-5 \nCool STEM related tech projects with Chris Fisher \nRegistration: In order for Burnham Students to be escorted from school for after-school library activities\, written permission must be submitted to the Burnham School office. All programs require advance registration with the library.
URL:https://burnhamlibrary.org/events/makerlab/2016-10-12/
LOCATION:The Burnham Library\, 62 Main Street South\, Burnham Library\, Bridgewater\, CT\, 06798\, United States
GEO:41.5333701;-73.3653819
X-APPLE-STRUCTURED-LOCATION;VALUE=URI;X-ADDRESS=The Burnham Library 62 Main Street South Burnham Library Bridgewater CT 06798 United States;X-APPLE-RADIUS=500;X-TITLE=62 Main Street South\, Burnham Library:geo:-73.3653819,41.5333701
END:VEVENT
BEGIN:VEVENT
DTSTART;TZID=America/New_York:20161011T140000
DTEND;TZID=America/New_York:20161011T160000
DTSTAMP:20260423T032717
CREATED:20160818T154412Z
LAST-MODIFIED:20160818T154412Z
UID:10000416-1476194400-1476201600@burnhamlibrary.org
SUMMARY:Coffee and Coloring
DESCRIPTION:
URL:https://burnhamlibrary.org/events/coffee-and-coloring/2016-10-11/
LOCATION:The Burnham Library\, 62 Main Street South\, Burnham Library\, Bridgewater\, CT\, 06798\, United States
GEO:41.5333701;-73.3653819
X-APPLE-STRUCTURED-LOCATION;VALUE=URI;X-ADDRESS=The Burnham Library 62 Main Street South Burnham Library Bridgewater CT 06798 United States;X-APPLE-RADIUS=500;X-TITLE=62 Main Street South\, Burnham Library:geo:-73.3653819,41.5333701
END:VEVENT
BEGIN:VEVENT
DTSTART;TZID=America/New_York:20161008T130000
DTEND;TZID=America/New_York:20161008T143000
DTSTAMP:20260423T032717
CREATED:20160806T130538Z
LAST-MODIFIED:20160806T130538Z
UID:10011433-1475931600-1475937000@burnhamlibrary.org
SUMMARY:Burnham School Classes
DESCRIPTION:Grades 3 and 4
URL:https://burnhamlibrary.org/events/burnham-school-classes-2/2016-10-08/
LOCATION:The Burnham Library\, 62 Main Street South\, Burnham Library\, Bridgewater\, CT\, 06798\, United States
GEO:41.5333701;-73.3653819
X-APPLE-STRUCTURED-LOCATION;VALUE=URI;X-ADDRESS=The Burnham Library 62 Main Street South Burnham Library Bridgewater CT 06798 United States;X-APPLE-RADIUS=500;X-TITLE=62 Main Street South\, Burnham Library:geo:-73.3653819,41.5333701
END:VEVENT
BEGIN:VEVENT
DTSTART;TZID=America/New_York:20161007T113000
DTEND;TZID=America/New_York:20161007T140000
DTSTAMP:20260423T032717
CREATED:20160806T130324Z
LAST-MODIFIED:20160806T130324Z
UID:10011431-1475839800-1475848800@burnhamlibrary.org
SUMMARY:Burnham School Classes
DESCRIPTION:Burnham Students Grades K/1\, 5 and 4. \n 
URL:https://burnhamlibrary.org/events/burnham-school-classes/2016-10-07/
LOCATION:The Burnham Library\, 62 Main Street South\, Burnham Library\, Bridgewater\, CT\, 06798\, United States
GEO:41.5333701;-73.3653819
X-APPLE-STRUCTURED-LOCATION;VALUE=URI;X-ADDRESS=The Burnham Library 62 Main Street South Burnham Library Bridgewater CT 06798 United States;X-APPLE-RADIUS=500;X-TITLE=62 Main Street South\, Burnham Library:geo:-73.3653819,41.5333701
END:VEVENT
BEGIN:VEVENT
DTSTART;TZID=America/New_York:20161005T180000
DTEND;TZID=America/New_York:20161005T200000
DTSTAMP:20260423T032717
CREATED:20160802T192857Z
LAST-MODIFIED:20160802T192857Z
UID:10011424-1475690400-1475697600@burnhamlibrary.org
SUMMARY:Two Towns Tabletop Club - Bridgewater
DESCRIPTION:Teen and Adult board gamers join in testing your gaming skills and meet new gamers along the way! Fury of Dracula\, King of Tokyo\, Settlers of Catan\, and The Walking Dead. No need to bring your games\, we’ve plenty! No registration required.\nGamers meet the 1st and 2nd week at the New Milford Library and the 3rd and 4th week at the Burnham Library.\nQuestions? email cfisher@burnhamlibrary.org
URL:https://burnhamlibrary.org/events/board-game-club-3/2016-10-05/
LOCATION:CT
END:VEVENT
BEGIN:VEVENT
DTSTART;TZID=America/New_York:20161004T140000
DTEND;TZID=America/New_York:20161004T160000
DTSTAMP:20260423T032717
CREATED:20160818T154412Z
LAST-MODIFIED:20160818T154412Z
UID:10011429-1475589600-1475596800@burnhamlibrary.org
SUMMARY:Coffee and Coloring
DESCRIPTION:
URL:https://burnhamlibrary.org/events/coffee-and-coloring/2016-10-04/
LOCATION:The Burnham Library\, 62 Main Street South\, Burnham Library\, Bridgewater\, CT\, 06798\, United States
GEO:41.5333701;-73.3653819
X-APPLE-STRUCTURED-LOCATION;VALUE=URI;X-ADDRESS=The Burnham Library 62 Main Street South Burnham Library Bridgewater CT 06798 United States;X-APPLE-RADIUS=500;X-TITLE=62 Main Street South\, Burnham Library:geo:-73.3653819,41.5333701
END:VEVENT
BEGIN:VEVENT
DTSTART;TZID=America/New_York:20160928T180000
DTEND;TZID=America/New_York:20160928T200000
DTSTAMP:20260423T032717
CREATED:20160802T192857Z
LAST-MODIFIED:20160802T192857Z
UID:10011423-1475085600-1475092800@burnhamlibrary.org
SUMMARY:Two Towns Tabletop Club - Bridgewater
DESCRIPTION:Teen and Adult board gamers join in testing your gaming skills and meet new gamers along the way! Fury of Dracula\, King of Tokyo\, Settlers of Catan\, and The Walking Dead. No need to bring your games\, we’ve plenty! No registration required.\nGamers meet the 1st and 2nd week at the New Milford Library and the 3rd and 4th week at the Burnham Library.\nQuestions? email cfisher@burnhamlibrary.org
URL:https://burnhamlibrary.org/events/board-game-club-3/2016-09-28/
LOCATION:CT
END:VEVENT
BEGIN:VEVENT
DTSTART;TZID=America/New_York:20160927T140000
DTEND;TZID=America/New_York:20160927T160000
DTSTAMP:20260423T032717
CREATED:20160818T154412Z
LAST-MODIFIED:20160818T154412Z
UID:10011428-1474984800-1474992000@burnhamlibrary.org
SUMMARY:Coffee and Coloring
DESCRIPTION:
URL:https://burnhamlibrary.org/events/coffee-and-coloring/2016-09-27/
LOCATION:The Burnham Library\, 62 Main Street South\, Burnham Library\, Bridgewater\, CT\, 06798\, United States
GEO:41.5333701;-73.3653819
X-APPLE-STRUCTURED-LOCATION;VALUE=URI;X-ADDRESS=The Burnham Library 62 Main Street South Burnham Library Bridgewater CT 06798 United States;X-APPLE-RADIUS=500;X-TITLE=62 Main Street South\, Burnham Library:geo:-73.3653819,41.5333701
END:VEVENT
BEGIN:VEVENT
DTSTART;TZID=America/New_York:20160921T180000
DTEND;TZID=America/New_York:20160921T200000
DTSTAMP:20260423T032717
CREATED:20160802T192857Z
LAST-MODIFIED:20160802T192857Z
UID:10011422-1474480800-1474488000@burnhamlibrary.org
SUMMARY:Two Towns Tabletop Club - Bridgewater
DESCRIPTION:Teen and Adult board gamers join in testing your gaming skills and meet new gamers along the way! Fury of Dracula\, King of Tokyo\, Settlers of Catan\, and The Walking Dead. No need to bring your games\, we’ve plenty! No registration required.\nGamers meet the 1st and 2nd week at the New Milford Library and the 3rd and 4th week at the Burnham Library.\nQuestions? email cfisher@burnhamlibrary.org
URL:https://burnhamlibrary.org/events/board-game-club-3/2016-09-21/
LOCATION:CT
END:VEVENT
BEGIN:VEVENT
DTSTART;TZID=America/New_York:20160920T140000
DTEND;TZID=America/New_York:20160920T160000
DTSTAMP:20260423T032717
CREATED:20160818T154412Z
LAST-MODIFIED:20160818T154412Z
UID:10011427-1474380000-1474387200@burnhamlibrary.org
SUMMARY:Coffee and Coloring
DESCRIPTION:
URL:https://burnhamlibrary.org/events/coffee-and-coloring/2016-09-20/
LOCATION:The Burnham Library\, 62 Main Street South\, Burnham Library\, Bridgewater\, CT\, 06798\, United States
GEO:41.5333701;-73.3653819
X-APPLE-STRUCTURED-LOCATION;VALUE=URI;X-ADDRESS=The Burnham Library 62 Main Street South Burnham Library Bridgewater CT 06798 United States;X-APPLE-RADIUS=500;X-TITLE=62 Main Street South\, Burnham Library:geo:-73.3653819,41.5333701
END:VEVENT
END:VCALENDAR