BEGIN:VCALENDAR
VERSION:2.0
PRODID:-//Burnham Library - ECPv6.15.19//NONSGML v1.0//EN
CALSCALE:GREGORIAN
METHOD:PUBLISH
X-WR-CALNAME:Burnham Library
X-ORIGINAL-URL:https://burnhamlibrary.org
X-WR-CALDESC:Events for Burnham Library
REFRESH-INTERVAL;VALUE=DURATION:PT1H
X-Robots-Tag:noindex
X-PUBLISHED-TTL:PT1H
BEGIN:VTIMEZONE
TZID:America/New_York
BEGIN:DAYLIGHT
TZOFFSETFROM:-0500
TZOFFSETTO:-0400
TZNAME:EDT
DTSTART:20230312T070000
END:DAYLIGHT
BEGIN:STANDARD
TZOFFSETFROM:-0400
TZOFFSETTO:-0500
TZNAME:EST
DTSTART:20231105T060000
END:STANDARD
BEGIN:DAYLIGHT
TZOFFSETFROM:-0500
TZOFFSETTO:-0400
TZNAME:EDT
DTSTART:20240310T070000
END:DAYLIGHT
BEGIN:STANDARD
TZOFFSETFROM:-0400
TZOFFSETTO:-0500
TZNAME:EST
DTSTART:20241103T060000
END:STANDARD
BEGIN:DAYLIGHT
TZOFFSETFROM:-0500
TZOFFSETTO:-0400
TZNAME:EDT
DTSTART:20250309T070000
END:DAYLIGHT
BEGIN:STANDARD
TZOFFSETFROM:-0400
TZOFFSETTO:-0500
TZNAME:EST
DTSTART:20251102T060000
END:STANDARD
END:VTIMEZONE
BEGIN:VEVENT
DTSTART;TZID=America/New_York:20240604T151500
DTEND;TZID=America/New_York:20240604T160000
DTSTAMP:20260425T203815
CREATED:20240315T010730Z
LAST-MODIFIED:20240426T175129Z
UID:10002630-1717514100-1717516800@burnhamlibrary.org
SUMMARY:Mythical Makers
DESCRIPTION:Mythical Makers with Miss Katie\nJoin Miss Katie to learn about mythical creatures and make crafts inspired by them! Each session will focus on a different mythical creature. \nThis three program series will take place on Tuesdays April 9th\, May 7th\, and June 4 from 3:15 PM – 4:00 PM. This program is for grades 1-5. Registration required. Email lambruso@burnhamlibrary.org to RSVP. \n 
URL:https://burnhamlibrary.org/events/mythical-makers-with-miss-katie/2024-06-04/
LOCATION:The Burnham Library\, 62 Main Street South\, Burnham Library\, Bridgewater\, CT\, 06798\, United States
CATEGORIES:Youth Programs
GEO:41.5333701;-73.3653819
X-APPLE-STRUCTURED-LOCATION;VALUE=URI;X-ADDRESS=The Burnham Library 62 Main Street South Burnham Library Bridgewater CT 06798 United States;X-APPLE-RADIUS=500;X-TITLE=62 Main Street South\, Burnham Library:geo:-73.3653819,41.5333701
END:VEVENT
END:VCALENDAR