BEGIN:VCALENDAR
VERSION:2.0
PRODID:-//Burnham Library - ECPv6.15.19//NONSGML v1.0//EN
CALSCALE:GREGORIAN
METHOD:PUBLISH
X-ORIGINAL-URL:https://burnhamlibrary.org
X-WR-CALDESC:Events for Burnham Library
REFRESH-INTERVAL;VALUE=DURATION:PT1H
X-Robots-Tag:noindex
X-PUBLISHED-TTL:PT1H
BEGIN:VTIMEZONE
TZID:America/New_York
BEGIN:DAYLIGHT
TZOFFSETFROM:-0500
TZOFFSETTO:-0400
TZNAME:EDT
DTSTART:20240310T070000
END:DAYLIGHT
BEGIN:STANDARD
TZOFFSETFROM:-0400
TZOFFSETTO:-0500
TZNAME:EST
DTSTART:20241103T060000
END:STANDARD
BEGIN:DAYLIGHT
TZOFFSETFROM:-0500
TZOFFSETTO:-0400
TZNAME:EDT
DTSTART:20250309T070000
END:DAYLIGHT
BEGIN:STANDARD
TZOFFSETFROM:-0400
TZOFFSETTO:-0500
TZNAME:EST
DTSTART:20251102T060000
END:STANDARD
BEGIN:DAYLIGHT
TZOFFSETFROM:-0500
TZOFFSETTO:-0400
TZNAME:EDT
DTSTART:20260308T070000
END:DAYLIGHT
BEGIN:STANDARD
TZOFFSETFROM:-0400
TZOFFSETTO:-0500
TZNAME:EST
DTSTART:20261101T060000
END:STANDARD
END:VTIMEZONE
BEGIN:VEVENT
DTSTART;TZID=America/New_York:20251209T180000
DTEND;TZID=America/New_York:20251209T193000
DTSTAMP:20260424T085622
CREATED:20251203T151757Z
LAST-MODIFIED:20251209T162222Z
UID:10006792-1765303200-1765308600@burnhamlibrary.org
SUMMARY:POSTPONED FROM 12/2: Cozy Cups & Crafts: Gingerbread Cutting Board Decoration
DESCRIPTION:Get into the cozy winter spirit with an evening of crafting at the library! Enjoy hot cocoa and light refreshments as you create a festive cutting board wall hanging. Paint and decorate wooden gingerbread and candy shapes\, then add your choice of faux candy\, ribbons\, beads\, and other festive details! \nThis program is for teens and adults ages 12+. Registration is required to attend. Please RSVP below. \nQuestions? Email Katie at ksteele@burnhamlibrary.org.
URL:https://burnhamlibrary.org/events/cozy-cups-crafts-gingerbread-cutting-board-decoration-2/
LOCATION:The Burnham Library\, 62 Main Street South\, Burnham Library\, Bridgewater\, CT\, 06798\, United States
CATEGORIES:Adult Program,Teen Program
ATTACH;FMTTYPE=image/png:https://burnhamlibrary.org/wp-content/uploads/2025/11/Copy-of-Cozy-Cups-Dec.png
GEO:41.5333701;-73.3653819
X-APPLE-STRUCTURED-LOCATION;VALUE=URI;X-ADDRESS=The Burnham Library 62 Main Street South Burnham Library Bridgewater CT 06798 United States;X-APPLE-RADIUS=500;X-TITLE=62 Main Street South\, Burnham Library:geo:-73.3653819,41.5333701
END:VEVENT
END:VCALENDAR