BEGIN:VCALENDAR
VERSION:2.0
PRODID:-//Burnham Library - ECPv6.15.19//NONSGML v1.0//EN
CALSCALE:GREGORIAN
METHOD:PUBLISH
X-WR-CALNAME:Burnham Library
X-ORIGINAL-URL:https://burnhamlibrary.org
X-WR-CALDESC:Events for Burnham Library
REFRESH-INTERVAL;VALUE=DURATION:PT1H
X-Robots-Tag:noindex
X-PUBLISHED-TTL:PT1H
BEGIN:VTIMEZONE
TZID:America/New_York
BEGIN:DAYLIGHT
TZOFFSETFROM:-0500
TZOFFSETTO:-0400
TZNAME:EDT
DTSTART:20250309T070000
END:DAYLIGHT
BEGIN:STANDARD
TZOFFSETFROM:-0400
TZOFFSETTO:-0500
TZNAME:EST
DTSTART:20251102T060000
END:STANDARD
BEGIN:DAYLIGHT
TZOFFSETFROM:-0500
TZOFFSETTO:-0400
TZNAME:EDT
DTSTART:20260308T070000
END:DAYLIGHT
BEGIN:STANDARD
TZOFFSETFROM:-0400
TZOFFSETTO:-0500
TZNAME:EST
DTSTART:20261101T060000
END:STANDARD
BEGIN:DAYLIGHT
TZOFFSETFROM:-0500
TZOFFSETTO:-0400
TZNAME:EDT
DTSTART:20270314T070000
END:DAYLIGHT
BEGIN:STANDARD
TZOFFSETFROM:-0400
TZOFFSETTO:-0500
TZNAME:EST
DTSTART:20271107T060000
END:STANDARD
END:VTIMEZONE
BEGIN:VEVENT
DTSTART;TZID=America/New_York:20260516T100000
DTEND;TZID=America/New_York:20260516T120000
DTSTAMP:20260424T120554
CREATED:20260404T174432Z
LAST-MODIFIED:20260422T150511Z
UID:10010870-1778925600-1778932800@burnhamlibrary.org
SUMMARY:A Walk Down Main Street
DESCRIPTION:A Walk Down Main Street\nGuided tour begins at 10:00 am. Reservations suggested\, RSVP below \nIn partnership with the Bridgewater Historical Society and T2studio \nSaturday\, May 9\, from 10:00 – 12:00 (Rain date TBD\, only in the event of heavy rain.) \nA guided tour of our beautiful downtown Main Street featuring 14 historic sites and the stories that bring them to life. Don’t miss the opportunity to explore the Peck House and Captain’s House\, with BHS volunteers on hand to welcome you. A reception with light refreshments will follow. \nFolks are invited to enjoy a self-guided tour; marker posts will remain in place through Memorial Day. \nQuestions? Email jkallay@burnhamlibrary.org \n 
URL:https://burnhamlibrary.org/events/a-walk-down-main-street-2/
LOCATION:The Burnham Library\, 62 Main Street South\, Burnham Library\, Bridgewater\, CT\, 06798\, United States
CATEGORIES:All Ages,Art @ Burnham Library
ATTACH;FMTTYPE=image/png:https://burnhamlibrary.org/wp-content/uploads/2026/04/Main-Street-Walking-Tour-2026.png
GEO:41.5333701;-73.3653819
X-APPLE-STRUCTURED-LOCATION;VALUE=URI;X-ADDRESS=The Burnham Library 62 Main Street South Burnham Library Bridgewater CT 06798 United States;X-APPLE-RADIUS=500;X-TITLE=62 Main Street South\, Burnham Library:geo:-73.3653819,41.5333701
END:VEVENT
BEGIN:VEVENT
DTSTART;TZID=America/New_York:20260530T093000
DTEND;TZID=America/New_York:20260530T123000
DTSTAMP:20260424T120554
CREATED:20260306T195818Z
LAST-MODIFIED:20260422T150342Z
UID:10009970-1780133400-1780144200@burnhamlibrary.org
SUMMARY:Chasing that Book Fair Feeling: Book Sale
DESCRIPTION:Chasing that Book Fair Feeling: Adult and Youth Book Sale\nSaturday\, May 30th\, 9:30 am-12:30 pm \n\n\n\nCome for the books. Stay for the feeling. \n\n\n\nGet that book fair high from when you were a kid! Stock up on summer reading with our gently used books\, novelties\, surprises\, and more! \nFor more information\, contact jkallay@burnhamlibrary.org or lambruso@burnhamlibrary.org
URL:https://burnhamlibrary.org/events/book-fair/
LOCATION:The Burnham Library\, 62 Main Street South\, Burnham Library\, Bridgewater\, CT\, 06798\, United States
CATEGORIES:All Ages
ATTACH;FMTTYPE=image/png:https://burnhamlibrary.org/wp-content/uploads/2026/03/scholastic-book-sale.png
GEO:41.5333701;-73.3653819
X-APPLE-STRUCTURED-LOCATION;VALUE=URI;X-ADDRESS=The Burnham Library 62 Main Street South Burnham Library Bridgewater CT 06798 United States;X-APPLE-RADIUS=500;X-TITLE=62 Main Street South\, Burnham Library:geo:-73.3653819,41.5333701
END:VEVENT
BEGIN:VEVENT
DTSTART;TZID=America/New_York:20260605T180000
DTEND;TZID=America/New_York:20260605T200000
DTSTAMP:20260424T120554
CREATED:20260423T143538Z
LAST-MODIFIED:20260423T193311Z
UID:10011450-1780682400-1780689600@burnhamlibrary.org
SUMMARY:Kiss of the Snow Queen: A Reading of a New Play by Tom Dulack
DESCRIPTION:Kiss of the Snow Queen: A Reading of a New Play by Tom Dulack\nFriday\, June 5 at 6:00 pm \nRegistration is required as seating is limited. RSVP below \nJoin us for a special reading of Kiss of the Snow Queen\, a new play by Bridgewater playwright Tom Dulack. Inspired by the friendship between literary giants Hans Christian Andersen and Charles Dickens\, the play explores admiration\, rivalry\, and unexpected complications when both men become captivated by the same young actress during Andersen’s visit to London. \nAdditional details\, including readers and event information\, will be announced soon. Stay tuned for updates!
URL:https://burnhamlibrary.org/events/kiss-of-the-snow-queen-a-reading-of-a-new-play-by-tom-dulack/
LOCATION:The Burnham Library\, 62 Main Street South\, Burnham Library\, Bridgewater\, CT\, 06798\, United States
CATEGORIES:Adult Program,All Ages
GEO:41.5333701;-73.3653819
X-APPLE-STRUCTURED-LOCATION;VALUE=URI;X-ADDRESS=The Burnham Library 62 Main Street South Burnham Library Bridgewater CT 06798 United States;X-APPLE-RADIUS=500;X-TITLE=62 Main Street South\, Burnham Library:geo:-73.3653819,41.5333701
END:VEVENT
BEGIN:VEVENT
DTSTART;TZID=America/New_York:20260626T173000
DTEND;TZID=America/New_York:20260626T200000
DTSTAMP:20260424T120554
CREATED:20260402T195104Z
LAST-MODIFIED:20260402T195104Z
UID:10010794-1782495000-1782504000@burnhamlibrary.org
SUMMARY:Save the Date: Music on Main
DESCRIPTION:
URL:https://burnhamlibrary.org/events/save-the-date-music-on-main/
LOCATION:The Burnham Library\, 62 Main Street South\, Burnham Library\, Bridgewater\, CT\, 06798\, United States
CATEGORIES:All Ages
GEO:41.5333701;-73.3653819
X-APPLE-STRUCTURED-LOCATION;VALUE=URI;X-ADDRESS=The Burnham Library 62 Main Street South Burnham Library Bridgewater CT 06798 United States;X-APPLE-RADIUS=500;X-TITLE=62 Main Street South\, Burnham Library:geo:-73.3653819,41.5333701
END:VEVENT
END:VCALENDAR