BEGIN:VCALENDAR
VERSION:2.0
PRODID:-//Burnham Library - ECPv6.15.19//NONSGML v1.0//EN
CALSCALE:GREGORIAN
METHOD:PUBLISH
X-WR-CALNAME:Burnham Library
X-ORIGINAL-URL:https://burnhamlibrary.org
X-WR-CALDESC:Events for Burnham Library
REFRESH-INTERVAL;VALUE=DURATION:PT1H
X-Robots-Tag:noindex
X-PUBLISHED-TTL:PT1H
BEGIN:VTIMEZONE
TZID:America/New_York
BEGIN:DAYLIGHT
TZOFFSETFROM:-0500
TZOFFSETTO:-0400
TZNAME:EDT
DTSTART:20230312T070000
END:DAYLIGHT
BEGIN:STANDARD
TZOFFSETFROM:-0400
TZOFFSETTO:-0500
TZNAME:EST
DTSTART:20231105T060000
END:STANDARD
BEGIN:DAYLIGHT
TZOFFSETFROM:-0500
TZOFFSETTO:-0400
TZNAME:EDT
DTSTART:20240310T070000
END:DAYLIGHT
BEGIN:STANDARD
TZOFFSETFROM:-0400
TZOFFSETTO:-0500
TZNAME:EST
DTSTART:20241103T060000
END:STANDARD
BEGIN:DAYLIGHT
TZOFFSETFROM:-0500
TZOFFSETTO:-0400
TZNAME:EDT
DTSTART:20250309T070000
END:DAYLIGHT
BEGIN:STANDARD
TZOFFSETFROM:-0400
TZOFFSETTO:-0500
TZNAME:EST
DTSTART:20251102T060000
END:STANDARD
END:VTIMEZONE
BEGIN:VEVENT
DTSTART;TZID=America/New_York:20241009T190000
DTEND;TZID=America/New_York:20241009T200000
DTSTAMP:20260419T082913
CREATED:20240924T192539Z
LAST-MODIFIED:20240924T192539Z
UID:10002855-1728500400-1728504000@burnhamlibrary.org
SUMMARY:Author Silvia Moreno-Garcia: Liberating Latin American Genre Fiction
DESCRIPTION:Liberating Latin American Genre Fiction: In Conversation with Bestselling Author Silvia Moreno-Garcia\nWednesday\, October 9 at 7:00 pm via digital live-stream \nREGISTER HERE \nYou’re invited to free your mind with the highly acclaimed Silvia Moreno-Garcia\, New York Times bestselling and award-winning author of several novels\, including Mexican Gothic\, The Daughter of Doctor Moreau\, Gods of Jade and Shadow\, and many more! \nMoreno-Garcia’s most recent novel\, The Seventh Veil of Salome\, is set in 1950s Hollywood. Vera Larios\, an unknown Mexican ingénue\, has just won a star-making role in a big-budget movie about the legendary woman whose story has inspired artists since ancient times–Salome. Vera quickly becomes the talk of the town and an object of envy for Nancy Hartley\, an actress whose career has stalled and who will do anything to win the fame she believes she richly deserves. \nAbout the Author:  Silvia Moreno-Garcia is the author of many critically acclaimed novels\, including Gods of Jade and Shadow (Sunburst Award for Excellence in Canadian Literature of the Fantastic\, Ignyte Award)\, Mexican Gothic (Locus Award\, British Fantasy Award\, Pacific Northwest Book Award\, Aurora Award\, Goodreads Award)\, Velvet Was the Night (finalist for the Los Angeles Times Book Prize and the Macavity Award)\, The Daughter of Doctor Moreau\, and The Seventh Veil of Salome. She writes in various genres\, including fantasy\, horror\, noir\, and historical. \nMexican by birth\, Canadian by inclination. Cachanilla and Canuck\, originally from Baja\, California\, now reside in Vancouver. She has an MA in Science and Technology Studies from the University of British Columbia.
URL:https://burnhamlibrary.org/events/author-silvia-moreno-garcia-liberating-latin-american-genre-fiction/
LOCATION:Virtual Program
CATEGORIES:Adult Program,Author Talk
ATTACH;FMTTYPE=image/jpeg:https://burnhamlibrary.org/wp-content/uploads/2024/09/SQUARE-marketing-image-Moreno-Garcia.jpg
END:VEVENT
END:VCALENDAR