BEGIN:VCALENDAR
VERSION:2.0
PRODID:-//Burnham Library - ECPv6.15.19//NONSGML v1.0//EN
CALSCALE:GREGORIAN
METHOD:PUBLISH
X-ORIGINAL-URL:https://burnhamlibrary.org
X-WR-CALDESC:Events for Burnham Library
REFRESH-INTERVAL;VALUE=DURATION:PT1H
X-Robots-Tag:noindex
X-PUBLISHED-TTL:PT1H
BEGIN:VTIMEZONE
TZID:America/New_York
BEGIN:DAYLIGHT
TZOFFSETFROM:-0500
TZOFFSETTO:-0400
TZNAME:EDT
DTSTART:20240310T070000
END:DAYLIGHT
BEGIN:STANDARD
TZOFFSETFROM:-0400
TZOFFSETTO:-0500
TZNAME:EST
DTSTART:20241103T060000
END:STANDARD
BEGIN:DAYLIGHT
TZOFFSETFROM:-0500
TZOFFSETTO:-0400
TZNAME:EDT
DTSTART:20250309T070000
END:DAYLIGHT
BEGIN:STANDARD
TZOFFSETFROM:-0400
TZOFFSETTO:-0500
TZNAME:EST
DTSTART:20251102T060000
END:STANDARD
BEGIN:DAYLIGHT
TZOFFSETFROM:-0500
TZOFFSETTO:-0400
TZNAME:EDT
DTSTART:20260308T070000
END:DAYLIGHT
BEGIN:STANDARD
TZOFFSETFROM:-0400
TZOFFSETTO:-0500
TZNAME:EST
DTSTART:20261101T060000
END:STANDARD
END:VTIMEZONE
BEGIN:VEVENT
DTSTART;TZID=America/New_York:20250901T080000
DTEND;TZID=America/New_York:20250901T170000
DTSTAMP:20260422T141637
CREATED:20250827T214555Z
LAST-MODIFIED:20250827T214555Z
UID:10003790-1756713600-1756746000@burnhamlibrary.org
SUMMARY:Year-long Scavenger Hunt: Where is Captain Bur-Gnome
DESCRIPTION:WHERE IS CAPTAIN BUR-Gnome?\nCaptain Bur-Gnome will be hiding around Bridgewater Center all year long to celebrate the 100th Birthday of the Burnham Library! \nHow to Play! \n\nFind Captain Bur-Gnome\nTake a selfie with him\nVisit the Burnham Library and show us your selfie\nEnter to win a PRIZE!\n\nCaptain Bur-Gnome will be in a different location in town each month (and he may be wearing a disguise). Receive a raffle ticket for each month you take a selfie with the Cap’n! Anyone who finds him all year (all 12 months) will also be entered to win a GRAND PRIZE!
URL:https://burnhamlibrary.org/events/year-long-scavenger-hunt-where-is-captain-bur-gnome/
LOCATION:The Burnham Library\, 62 Main Street South\, Burnham Library\, Bridgewater\, CT\, 06798\, United States
ATTACH;FMTTYPE=image/jpeg:https://burnhamlibrary.org/wp-content/uploads/2025/08/Where-is-Captain-BurGnome-Square.jpg
GEO:41.5333701;-73.3653819
X-APPLE-STRUCTURED-LOCATION;VALUE=URI;X-ADDRESS=The Burnham Library 62 Main Street South Burnham Library Bridgewater CT 06798 United States;X-APPLE-RADIUS=500;X-TITLE=62 Main Street South\, Burnham Library:geo:-73.3653819,41.5333701
END:VEVENT
BEGIN:VEVENT
DTSTART;TZID=America/New_York:20250901T100000
DTEND;TZID=America/New_York:20250901T170000
DTSTAMP:20260422T141637
CREATED:20250820T213238Z
LAST-MODIFIED:20250820T213238Z
UID:10003555-1756720800-1756746000@burnhamlibrary.org
SUMMARY:Centennial Reading Challenge: Read Through the Decades
DESCRIPTION:Join our Read Through the Decades Challenge and take a literary journey through the past 100 years! Read a book from each decade and earn a raffle ticket for every title you complete—each one brings you closer to winning the Grand Prize. \nDeadline for raffle entries is Friday\, August 14\, 2026\, and be sure to mark your calendars for Burnham’s Community Picnic & Rededication Celebration\, which will be held the weekend of August 15\, 2026 (rain date: August 16). \nNeed inspiration? Visit our Read Through the Decades display at the library\, updated all year long with fresh recommendations. \nThis celebration is for everyone—youth and adults alike will have the chance to win an eReader as part of the fun!
URL:https://burnhamlibrary.org/events/centennial-reading-challenge-read-through-the-decades/
LOCATION:The Burnham Library\, 62 Main Street South\, Burnham Library\, Bridgewater\, CT\, 06798\, United States
ATTACH;FMTTYPE=image/png:https://burnhamlibrary.org/wp-content/uploads/2025/08/Centennial-Reading-Challenge-1.png
GEO:41.5333701;-73.3653819
X-APPLE-STRUCTURED-LOCATION;VALUE=URI;X-ADDRESS=The Burnham Library 62 Main Street South Burnham Library Bridgewater CT 06798 United States;X-APPLE-RADIUS=500;X-TITLE=62 Main Street South\, Burnham Library:geo:-73.3653819,41.5333701
END:VEVENT
END:VCALENDAR