BEGIN:VCALENDAR
VERSION:2.0
PRODID:-//Burnham Library - ECPv6.15.19//NONSGML v1.0//EN
CALSCALE:GREGORIAN
METHOD:PUBLISH
X-WR-CALNAME:Burnham Library
X-ORIGINAL-URL:https://burnhamlibrary.org
X-WR-CALDESC:Events for Burnham Library
REFRESH-INTERVAL;VALUE=DURATION:PT1H
X-Robots-Tag:noindex
X-PUBLISHED-TTL:PT1H
BEGIN:VTIMEZONE
TZID:America/New_York
BEGIN:DAYLIGHT
TZOFFSETFROM:-0500
TZOFFSETTO:-0400
TZNAME:EDT
DTSTART:20240310T070000
END:DAYLIGHT
BEGIN:STANDARD
TZOFFSETFROM:-0400
TZOFFSETTO:-0500
TZNAME:EST
DTSTART:20241103T060000
END:STANDARD
BEGIN:DAYLIGHT
TZOFFSETFROM:-0500
TZOFFSETTO:-0400
TZNAME:EDT
DTSTART:20250309T070000
END:DAYLIGHT
BEGIN:STANDARD
TZOFFSETFROM:-0400
TZOFFSETTO:-0500
TZNAME:EST
DTSTART:20251102T060000
END:STANDARD
BEGIN:DAYLIGHT
TZOFFSETFROM:-0500
TZOFFSETTO:-0400
TZNAME:EDT
DTSTART:20260308T070000
END:DAYLIGHT
BEGIN:STANDARD
TZOFFSETFROM:-0400
TZOFFSETTO:-0500
TZNAME:EST
DTSTART:20261101T060000
END:STANDARD
END:VTIMEZONE
BEGIN:VEVENT
DTSTART;TZID=America/New_York:20250708T130000
DTEND;TZID=America/New_York:20250708T140000
DTSTAMP:20260424T201607
CREATED:20250521T163841Z
LAST-MODIFIED:20250527T105453Z
UID:10003090-1751979600-1751983200@burnhamlibrary.org
SUMMARY:Adventure Quests
DESCRIPTION:Burnham Library Presents:\nSummer Reading After Camp Series: Adventure Quests \nGrades: 1-5 \nTuesdays  1:00-2:00pm \nActivities with a video game theme.  Make an Animal Crossing creation\, a Minecraft critter and much more! Register for the program by scanning the QR code on the featured image. \n*If you are attending the Bridgewater Parks & Recreation camp\, staff is able to walk your child from camp to the library*
URL:https://burnhamlibrary.org/events/adventure-quests/2025-07-08/
LOCATION:The Burnham Library\, 62 Main Street South\, Burnham Library\, Bridgewater\, CT\, 06798\, United States
CATEGORIES:Youth Programs
ATTACH;FMTTYPE=image/png:https://burnhamlibrary.org/wp-content/uploads/2025/05/After-Camp-summer-programs-25-2.png
GEO:41.5333701;-73.3653819
X-APPLE-STRUCTURED-LOCATION;VALUE=URI;X-ADDRESS=The Burnham Library 62 Main Street South Burnham Library Bridgewater CT 06798 United States;X-APPLE-RADIUS=500;X-TITLE=62 Main Street South\, Burnham Library:geo:-73.3653819,41.5333701
END:VEVENT
BEGIN:VEVENT
DTSTART;TZID=America/New_York:20250708T160000
DTEND;TZID=America/New_York:20250708T163000
DTSTAMP:20260424T201607
CREATED:20250522T172202Z
LAST-MODIFIED:20250522T172202Z
UID:10003120-1751990400-1751992200@burnhamlibrary.org
SUMMARY:Virtual K-12 Summer Author Series: Raul the Third
DESCRIPTION:Drawing Your World with Raúl The Third (PK-2nd Grade)\nTuesday\, July 8 at 4:00 pm via digital live stream \nREGISTER & SUBMIT QUESTIONS HERE \n\n\nJoin author and illustrator Raúl The Third as he discusses his book ¡Vamos! Let’s Go Read!. Meet Little Lobo and friends as they explore their library’s Libro Love Book Festival! From cookbook demonstrations and comics workshops to mask making and language classes\, this library has something for everyone and Little Lobo can’t wait to show you. \nRaúl the Third uses his culture and his experience growing up on the US and Mexico border to inspire his art and his storytelling. Students will be encouraged to explore their world through a creative lens. A draw along is planned\, drawing supplies and paper are recommended. \nPlease note that we will be hosting Raúl the Third twice on this date\, once in Spanish and in English. Be sure that you are registering for your preferred format. \nAbout the Author: Raúl The Third is a New York Times bestselling and three-time Pura Belpre award-winning illustrator\, author\, and artist living in Boston. His work centers around the contemporary Mexican-American experience and his memories of growing up in El Paso\, Texas and Ciudad Juarez\, Mexico. He is currently adapting his World of Vamos! books into an animated television series with Silvergate Media and Mercury Filmworks.
URL:https://burnhamlibrary.org/events/virtual-k-12-summer-author-series-raul-the-third/
LOCATION:Virtual Program
CATEGORIES:Author Talk,Youth Programs
ATTACH;FMTTYPE=image/jpeg:https://burnhamlibrary.org/wp-content/uploads/2025/05/SQUARE-marketing-image-Raul-the-Third.jpg
END:VEVENT
END:VCALENDAR