BEGIN:VCALENDAR
VERSION:2.0
PRODID:-//Burnham Library - ECPv6.15.19//NONSGML v1.0//EN
CALSCALE:GREGORIAN
METHOD:PUBLISH
X-ORIGINAL-URL:https://burnhamlibrary.org
X-WR-CALDESC:Events for Burnham Library
REFRESH-INTERVAL;VALUE=DURATION:PT1H
X-Robots-Tag:noindex
X-PUBLISHED-TTL:PT1H
BEGIN:VTIMEZONE
TZID:America/New_York
BEGIN:DAYLIGHT
TZOFFSETFROM:-0500
TZOFFSETTO:-0400
TZNAME:EDT
DTSTART:20240310T070000
END:DAYLIGHT
BEGIN:STANDARD
TZOFFSETFROM:-0400
TZOFFSETTO:-0500
TZNAME:EST
DTSTART:20241103T060000
END:STANDARD
BEGIN:DAYLIGHT
TZOFFSETFROM:-0500
TZOFFSETTO:-0400
TZNAME:EDT
DTSTART:20250309T070000
END:DAYLIGHT
BEGIN:STANDARD
TZOFFSETFROM:-0400
TZOFFSETTO:-0500
TZNAME:EST
DTSTART:20251102T060000
END:STANDARD
BEGIN:DAYLIGHT
TZOFFSETFROM:-0500
TZOFFSETTO:-0400
TZNAME:EDT
DTSTART:20260308T070000
END:DAYLIGHT
BEGIN:STANDARD
TZOFFSETFROM:-0400
TZOFFSETTO:-0500
TZNAME:EST
DTSTART:20261101T060000
END:STANDARD
END:VTIMEZONE
BEGIN:VEVENT
DTSTART;TZID=America/New_York:20250424T103000
DTEND;TZID=America/New_York:20250424T110000
DTSTAMP:20260419T133147
CREATED:20250313T155751Z
LAST-MODIFIED:20250313T155819Z
UID:10003048-1745490600-1745492400@burnhamlibrary.org
SUMMARY:Burnham Bunch Spring Storytime
DESCRIPTION:Burnham Library Presents:\nBurnham Bunch Storytime \nThursdays 4/24 – 5/29  @10:30am \nNo registration required.  Drop in \nStories\, songs and bubbles for the 5 and under crowd!
URL:https://burnhamlibrary.org/events/burnham-bunch-spring-storytime/2025-04-24/
LOCATION:The Burnham Library\, 62 Main Street South\, Burnham Library\, Bridgewater\, CT\, 06798\, United States
CATEGORIES:Youth Programs
ATTACH;FMTTYPE=image/png:https://burnhamlibrary.org/wp-content/uploads/2025/03/Story-time.png
GEO:41.5333701;-73.3653819
X-APPLE-STRUCTURED-LOCATION;VALUE=URI;X-ADDRESS=The Burnham Library 62 Main Street South Burnham Library Bridgewater CT 06798 United States;X-APPLE-RADIUS=500;X-TITLE=62 Main Street South\, Burnham Library:geo:-73.3653819,41.5333701
END:VEVENT
BEGIN:VEVENT
DTSTART;TZID=America/New_York:20250424T190000
DTEND;TZID=America/New_York:20250424T200000
DTSTAMP:20260419T133147
CREATED:20250321T194528Z
LAST-MODIFIED:20250410T204248Z
UID:10003067-1745521200-1745524800@burnhamlibrary.org
SUMMARY:A Conversation with Bestselling Author Gregg Hurwitz: The Thrill of Writing Action\, Adventure\, and Suspense
DESCRIPTION:The Thrill of Writing Action\, Adventure\, and Suspense: A Conversation with Author Gregg Hurwitz\nThursday\, April 24 at 7:00 pm via digital live stream \nREGISTER HERE \nJoin us as Smithsonian Horticulturalist Matthew Fleming\, guides us through the secret world of trees as is revealed in the beautiful and absorbing guide to the giants of the plant world—The Tree Book: The Stories\, Science\, and History of Trees. \nTrees occur naturally throughout the world and have been a part of human history for almost as long as humans have existed. Used for shelter\, tools\, fuel\, and food\, they also help supply the atmosphere with oxygen and form astonishingly diverse ecosystems\, as well as some of the world’s most beautiful landscapes. Now the intricate world of leafy woodlands and abundant rainforests is revealed in this extensive visual guide to trees\, exploring their key scientific traits and their ecological importance\, as well as their enduring significance in human history and culture. From ancient oaks and great redwoods to lush banyans and imposing kapoks\, The Tree Book reveals the anatomy\, behaviors\, and beauty of these incredible plants and habitats in detail. \nCombining natural history and a scientific overview with a wider look at the history\, uses\, symbolism\, and mythology of trees\, this book is a new kind of guide to these fascinating organisms. Register today to learn more about the beautiful world of trees! \nAbout the Presenter: Matthew Fleming has been a horticulturist at the Smithsonian Gardens Greenhouse Facility in Suitland\, Maryland since 2010. In addition to serving as a supervisory horticulturist\, he manages three greenhouses with nearly a thousand tropical specimens that are displayed throughout the many Smithsonian gardens and landscapes along the National Mall during the warmer months. He has given talks on a wide variety of plant-related topics at the Smithsonian ranging from indoor pests to overwintering tropical plants.  Prior to coming to the Smithsonian\, Matt was a purchasing agent and garden center assistant manager for a full-service landscaping firm.  He received his Bachelor of Science degree from Penn State University’s College of Agricultural Sciences where he studied Horticulture and Landscape Contracting.
URL:https://burnhamlibrary.org/events/a-conversation-with-bestselling-author-gregg-hurwitz-the-thrill-of-writing-action-adventure-and-suspense/
LOCATION:Virtual Program
CATEGORIES:Adult Program,Author Talk
ATTACH;FMTTYPE=image/jpeg:https://burnhamlibrary.org/wp-content/uploads/2025/03/SQUARE-marketing-image-Hurwitz.jpg
END:VEVENT
END:VCALENDAR