BEGIN:VCALENDAR
VERSION:2.0
PRODID:-//Burnham Library - ECPv6.15.19//NONSGML v1.0//EN
CALSCALE:GREGORIAN
METHOD:PUBLISH
X-ORIGINAL-URL:https://burnhamlibrary.org
X-WR-CALDESC:Events for Burnham Library
REFRESH-INTERVAL;VALUE=DURATION:PT1H
X-Robots-Tag:noindex
X-PUBLISHED-TTL:PT1H
BEGIN:VTIMEZONE
TZID:America/New_York
BEGIN:DAYLIGHT
TZOFFSETFROM:-0500
TZOFFSETTO:-0400
TZNAME:EDT
DTSTART:20220313T070000
END:DAYLIGHT
BEGIN:STANDARD
TZOFFSETFROM:-0400
TZOFFSETTO:-0500
TZNAME:EST
DTSTART:20221106T060000
END:STANDARD
BEGIN:DAYLIGHT
TZOFFSETFROM:-0500
TZOFFSETTO:-0400
TZNAME:EDT
DTSTART:20230312T070000
END:DAYLIGHT
BEGIN:STANDARD
TZOFFSETFROM:-0400
TZOFFSETTO:-0500
TZNAME:EST
DTSTART:20231105T060000
END:STANDARD
BEGIN:DAYLIGHT
TZOFFSETFROM:-0500
TZOFFSETTO:-0400
TZNAME:EDT
DTSTART:20240310T070000
END:DAYLIGHT
BEGIN:STANDARD
TZOFFSETFROM:-0400
TZOFFSETTO:-0500
TZNAME:EST
DTSTART:20241103T060000
END:STANDARD
END:VTIMEZONE
BEGIN:VEVENT
DTSTART;TZID=America/New_York:20231201T050000
DTEND;TZID=America/New_York:20231230T080000
DTSTAMP:20260423T001739
CREATED:20231122T000742Z
LAST-MODIFIED:20231213T010723Z
UID:10002501-1701406800-1703923200@burnhamlibrary.org
SUMMARY:*ALL CLAIMED* Adult and Teen Take & Make Craft: Sleeping Mouse Ornament!
DESCRIPTION:Adult & Teen Take & Make Craft: Sleeping Mouse Ornament! \nStop by the library to pick up a take-and-make craft kit at the circulation desk! Kits will be available starting on Dec. 1st and throughout the month of December while supplies last. December’s take and make is a Sleeping Mouse Ornament! \nQuestions? Email ksteele@burnhamlibrary.org
URL:https://burnhamlibrary.org/events/adult-and-teen-take-make-craft-sleeping-mouse-ornament/
LOCATION:The Burnham Library\, 62 Main Street South\, Burnham Library\, Bridgewater\, CT\, 06798\, United States
CATEGORIES:Adult Program,Teen Program
GEO:41.5333701;-73.3653819
X-APPLE-STRUCTURED-LOCATION;VALUE=URI;X-ADDRESS=The Burnham Library 62 Main Street South Burnham Library Bridgewater CT 06798 United States;X-APPLE-RADIUS=500;X-TITLE=62 Main Street South\, Burnham Library:geo:-73.3653819,41.5333701
END:VEVENT
BEGIN:VEVENT
DTSTART;TZID=America/New_York:20231221T060000
DTEND;TZID=America/New_York:20231221T063000
DTSTAMP:20260423T001739
CREATED:20231101T192212Z
LAST-MODIFIED:20231116T235733Z
UID:10002497-1703138400-1703140200@burnhamlibrary.org
SUMMARY:NEW DATE- PK Cookie Decorating
DESCRIPTION:Burnham Library Presents:\nPK Cookie Decorating \nThursday\, December 21st \n11:00-11:30am \nFor ages 5 and under. \nJoin us to decorate holiday cookies! \nRegistration Required. \nEmail Mrs. Lianne at lambruso@burnhamlibrary.org \n 
URL:https://burnhamlibrary.org/events/pk-cookie-decorating/
LOCATION:CT
CATEGORIES:Youth Programs
END:VEVENT
BEGIN:VEVENT
DTSTART;TZID=America/New_York:20231221T101500
DTEND;TZID=America/New_York:20231221T110000
DTSTAMP:20260423T001739
CREATED:20231117T000147Z
LAST-MODIFIED:20231117T000637Z
UID:10002500-1703153700-1703156400@burnhamlibrary.org
SUMMARY:Cookie Decorating (Grades K-5)
DESCRIPTION:Burnham Library Presents:\n \nCookie Decorating (Grades K-5)\n3:15-4:00PM \nSpend some time decorating some holiday cookies to take home and enjoy!  We’ll listen to holiday music and enjoy some hot cocoa while we decorate! \nRegistration required. \nEmail Lianne at lambruso@burnhamlibrary.org \n 
URL:https://burnhamlibrary.org/events/cookie-decorating-grades-k-5/
LOCATION:The Burnham Library\, 62 Main Street South\, Burnham Library\, Bridgewater\, CT\, 06798\, United States
CATEGORIES:Youth Programs
GEO:41.5333701;-73.3653819
X-APPLE-STRUCTURED-LOCATION;VALUE=URI;X-ADDRESS=The Burnham Library 62 Main Street South Burnham Library Bridgewater CT 06798 United States;X-APPLE-RADIUS=500;X-TITLE=62 Main Street South\, Burnham Library:geo:-73.3653819,41.5333701
END:VEVENT
END:VCALENDAR