BEGIN:VCALENDAR
VERSION:2.0
PRODID:-//Burnham Library - ECPv6.15.19//NONSGML v1.0//EN
CALSCALE:GREGORIAN
METHOD:PUBLISH
X-ORIGINAL-URL:https://burnhamlibrary.org
X-WR-CALDESC:Events for Burnham Library
REFRESH-INTERVAL;VALUE=DURATION:PT1H
X-Robots-Tag:noindex
X-PUBLISHED-TTL:PT1H
BEGIN:VTIMEZONE
TZID:America/New_York
BEGIN:DAYLIGHT
TZOFFSETFROM:-0500
TZOFFSETTO:-0400
TZNAME:EDT
DTSTART:20220313T070000
END:DAYLIGHT
BEGIN:STANDARD
TZOFFSETFROM:-0400
TZOFFSETTO:-0500
TZNAME:EST
DTSTART:20221106T060000
END:STANDARD
BEGIN:DAYLIGHT
TZOFFSETFROM:-0500
TZOFFSETTO:-0400
TZNAME:EDT
DTSTART:20230312T070000
END:DAYLIGHT
BEGIN:STANDARD
TZOFFSETFROM:-0400
TZOFFSETTO:-0500
TZNAME:EST
DTSTART:20231105T060000
END:STANDARD
BEGIN:DAYLIGHT
TZOFFSETFROM:-0500
TZOFFSETTO:-0400
TZNAME:EDT
DTSTART:20240310T070000
END:DAYLIGHT
BEGIN:STANDARD
TZOFFSETFROM:-0400
TZOFFSETTO:-0500
TZNAME:EST
DTSTART:20241103T060000
END:STANDARD
END:VTIMEZONE
BEGIN:VEVENT
DTSTART;TZID=America/New_York:20230610T041500
DTEND;TZID=America/New_York:20230610T050000
DTSTAMP:20260422T114636
CREATED:20230510T005854Z
LAST-MODIFIED:20230510T005916Z
UID:10002296-1686370500-1686373200@burnhamlibrary.org
SUMMARY:Gentle Yoga Under the Tent with Lanie
DESCRIPTION:Gentle Yoga Under the Tent with Lanie\nBegins promptly at 9:15 am \nGentle Yoga\, no experience necessary. \nBring a yoga mat\, beach towel\, bug spray & water bottle \nUnder 18 welcome\, but must be accompanied by an adult. \nQuestions? email jkallay@burnhamlibrary.org
URL:https://burnhamlibrary.org/events/gentle-yoga-under-the-tent-with-lanie/2023-06-10/
LOCATION:The Burnham Library\, 62 Main Street South\, Burnham Library\, Bridgewater\, CT\, 06798\, United States
GEO:41.5333701;-73.3653819
X-APPLE-STRUCTURED-LOCATION;VALUE=URI;X-ADDRESS=The Burnham Library 62 Main Street South Burnham Library Bridgewater CT 06798 United States;X-APPLE-RADIUS=500;X-TITLE=62 Main Street South\, Burnham Library:geo:-73.3653819,41.5333701
END:VEVENT
BEGIN:VEVENT
DTSTART;TZID=America/New_York:20230610T080000
DTEND;TZID=America/New_York:20230610T120000
DTSTAMP:20260422T114636
CREATED:20221207T203828Z
LAST-MODIFIED:20221207T203828Z
UID:10002133-1686384000-1686398400@burnhamlibrary.org
SUMMARY:Two Town Tabletop Club
DESCRIPTION:Two Town Tabletop Club\n \nJoin us for hobby gaming in a casual atmosphere!  Adults.  All experience levels and interests are welcome! \nEmail cfisher@burnhamlibrary.org to register.
URL:https://burnhamlibrary.org/events/two-town-tabletop-club-2/2023-06-10/
LOCATION:The Burnham Library\, 62 Main Street South\, Burnham Library\, Bridgewater\, CT\, 06798\, United States
CATEGORIES:Adult Program
GEO:41.5333701;-73.3653819
X-APPLE-STRUCTURED-LOCATION;VALUE=URI;X-ADDRESS=The Burnham Library 62 Main Street South Burnham Library Bridgewater CT 06798 United States;X-APPLE-RADIUS=500;X-TITLE=62 Main Street South\, Burnham Library:geo:-73.3653819,41.5333701
END:VEVENT
END:VCALENDAR