BEGIN:VCALENDAR
VERSION:2.0
PRODID:-//Burnham Library - ECPv6.15.19//NONSGML v1.0//EN
CALSCALE:GREGORIAN
METHOD:PUBLISH
X-ORIGINAL-URL:https://burnhamlibrary.org
X-WR-CALDESC:Events for Burnham Library
REFRESH-INTERVAL;VALUE=DURATION:PT1H
X-Robots-Tag:noindex
X-PUBLISHED-TTL:PT1H
BEGIN:VTIMEZONE
TZID:America/New_York
BEGIN:DAYLIGHT
TZOFFSETFROM:-0500
TZOFFSETTO:-0400
TZNAME:EDT
DTSTART:20210314T070000
END:DAYLIGHT
BEGIN:STANDARD
TZOFFSETFROM:-0400
TZOFFSETTO:-0500
TZNAME:EST
DTSTART:20211107T060000
END:STANDARD
BEGIN:DAYLIGHT
TZOFFSETFROM:-0500
TZOFFSETTO:-0400
TZNAME:EDT
DTSTART:20220313T070000
END:DAYLIGHT
BEGIN:STANDARD
TZOFFSETFROM:-0400
TZOFFSETTO:-0500
TZNAME:EST
DTSTART:20221106T060000
END:STANDARD
BEGIN:DAYLIGHT
TZOFFSETFROM:-0500
TZOFFSETTO:-0400
TZNAME:EDT
DTSTART:20230312T070000
END:DAYLIGHT
BEGIN:STANDARD
TZOFFSETFROM:-0400
TZOFFSETTO:-0500
TZNAME:EST
DTSTART:20231105T060000
END:STANDARD
END:VTIMEZONE
BEGIN:VEVENT
DTSTART;TZID=America/New_York:20221022T093000
DTEND;TZID=America/New_York:20221022T110000
DTSTAMP:20260422T102138
CREATED:20220924T005137Z
LAST-MODIFIED:20220924T005137Z
UID:10001755-1666431000-1666436400@burnhamlibrary.org
SUMMARY:Paranormal Encounters: A Shepaug Libraries Program
DESCRIPTION:Paranormal Encounters – with Barry Pirro\nA Shepaug Libraries Program: Hosted by Minor Memorial Library\nPart of the Mugs & Minds series\nHave you ever seen a ghost? \nGhost investigator Barry Pirro comes to Minor Memorial Library in Roxbury to share some of his best stories and encourage others to do the same. \nThis will be a small salon-style event to encourage people to share their own true ghost stories and allow for discussion. Attendees are also welcome to just come and listen. \nBecause of the nature of this program\, attendance will be strictly limited. REGISTRATION IS REQUIRED \nTo register visit https://www.minormemoriallibrary.org/event/paranormal-encounters-with-barry-pirro/ \n 
URL:https://burnhamlibrary.org/events/paranormal-encounters-a-shepaug-libraries-program/
LOCATION:CT
CATEGORIES:Shepaug Libraries Program
END:VEVENT
END:VCALENDAR